BEGIN:VCALENDAR
VERSION:2.0
PRODID:-//Tallahassee Elks Lodge #937 - ECPv6.15.7//NONSGML v1.0//EN
CALSCALE:GREGORIAN
METHOD:PUBLISH
X-WR-CALNAME:Tallahassee Elks Lodge #937
X-ORIGINAL-URL:https://tallahasseeelks.org
X-WR-CALDESC:Events for Tallahassee Elks Lodge #937
REFRESH-INTERVAL;VALUE=DURATION:PT1H
X-Robots-Tag:noindex
X-PUBLISHED-TTL:PT1H
BEGIN:VTIMEZONE
TZID:America/New_York
BEGIN:DAYLIGHT
TZOFFSETFROM:-0500
TZOFFSETTO:-0400
TZNAME:EDT
DTSTART:20210314T070000
END:DAYLIGHT
BEGIN:STANDARD
TZOFFSETFROM:-0400
TZOFFSETTO:-0500
TZNAME:EST
DTSTART:20211107T060000
END:STANDARD
BEGIN:DAYLIGHT
TZOFFSETFROM:-0500
TZOFFSETTO:-0400
TZNAME:EDT
DTSTART:20220313T070000
END:DAYLIGHT
BEGIN:STANDARD
TZOFFSETFROM:-0400
TZOFFSETTO:-0500
TZNAME:EST
DTSTART:20221106T060000
END:STANDARD
BEGIN:DAYLIGHT
TZOFFSETFROM:-0500
TZOFFSETTO:-0400
TZNAME:EDT
DTSTART:20230312T070000
END:DAYLIGHT
BEGIN:STANDARD
TZOFFSETFROM:-0400
TZOFFSETTO:-0500
TZNAME:EST
DTSTART:20231105T060000
END:STANDARD
END:VTIMEZONE
BEGIN:VEVENT
DTSTART;TZID=America/New_York:20221128T080000
DTEND;TZID=America/New_York:20221128T170000
DTSTAMP:20260423T053951
CREATED:20221108T012804Z
LAST-MODIFIED:20221108T012804Z
UID:212-1669622400-1669654800@tallahasseeelks.org
SUMMARY:Cyber Monday
DESCRIPTION:Check out all of the great deals online for Cyber Monday!
URL:https://tallahasseeelks.org/event/cyber-monday/
ATTACH;FMTTYPE=image/webp:https://tallahasseeelks.org/wp-content/uploads/2022/11/cyber-mon.webp
END:VEVENT
BEGIN:VEVENT
DTSTART;TZID=America/New_York:20221126T180000
DTEND;TZID=America/New_York:20221126T230000
DTSTAMP:20260423T053951
CREATED:20221108T012315Z
LAST-MODIFIED:20221108T012315Z
UID:208-1669485600-1669503600@tallahasseeelks.org
SUMMARY:College Football
DESCRIPTION:
URL:https://tallahasseeelks.org/event/college-football-2/
ATTACH;FMTTYPE=image/jpeg:https://tallahasseeelks.org/wp-content/uploads/2022/11/college-football-3.jpg
END:VEVENT
BEGIN:VEVENT
DTSTART;TZID=America/New_York:20221125T193000
DTEND;TZID=America/New_York:20221125T230000
DTSTAMP:20260423T053951
CREATED:20221108T011748Z
LAST-MODIFIED:20221108T011748Z
UID:204-1669404600-1669417200@tallahasseeelks.org
SUMMARY:Black Friday- FSU vs. Florida Gators
DESCRIPTION:Come join us for a fun time watching FSU vs. Florida @ 7:30 pm! Rival game at its best! Go Noles!
URL:https://tallahasseeelks.org/event/black-friday-fsu-vs-florida-gators/
ATTACH;FMTTYPE=image/png:https://tallahasseeelks.org/wp-content/uploads/2022/11/fsu-vs-florida.png
END:VEVENT
BEGIN:VEVENT
DTSTART;TZID=America/New_York:20221119T200000
DTEND;TZID=America/New_York:20221119T230000
DTSTAMP:20260423T053951
CREATED:20221108T005354Z
LAST-MODIFIED:20221108T005354Z
UID:201-1668888000-1668898800@tallahasseeelks.org
SUMMARY:FSU vs. Louisiana Ragin' Cajuns
DESCRIPTION:Come watch FSU vs. Louisiana at 8:00 pm. Snacks to share are always welcome!
URL:https://tallahasseeelks.org/event/fsu-vs-louisiana-ragin-cajuns/
ATTACH;FMTTYPE=image/png:https://tallahasseeelks.org/wp-content/uploads/2022/11/fsu-vs-louisiana.png
END:VEVENT
BEGIN:VEVENT
DTSTART;TZID=America/New_York:20221118T183000
DTEND;TZID=America/New_York:20221118T213000
DTSTAMP:20260423T053951
CREATED:20221108T004838Z
LAST-MODIFIED:20221108T004924Z
UID:196-1668796200-1668807000@tallahasseeelks.org
SUMMARY:Bar Bingo 6:30 pm
DESCRIPTION:Come join us for Bar Bingo @ 6:30 pm for fun & games\, drinks and good conversation with your fellow Elks!
URL:https://tallahasseeelks.org/event/bar-bingo-630-pm/
ATTACH;FMTTYPE=image/png:https://tallahasseeelks.org/wp-content/uploads/2022/11/bar-bingo.png
END:VEVENT
BEGIN:VEVENT
DTSTART;TZID=America/New_York:20221115T190000
DTEND;TZID=America/New_York:20221115T210000
DTSTAMP:20260423T053951
CREATED:20221108T110140Z
LAST-MODIFIED:20221108T110256Z
UID:224-1668538800-1668546000@tallahasseeelks.org
SUMMARY:Lodge Meeting w/ Initiation 7pm
DESCRIPTION:New member Initiation night 7:00pm
URL:https://tallahasseeelks.org/event/lodge-meeting-w-initiation-7pm/
ATTACH;FMTTYPE=image/webp:https://tallahasseeelks.org/wp-content/uploads/2022/11/16865283.webp
END:VEVENT
BEGIN:VEVENT
DTSTART;TZID=America/New_York:20221114T170000
DTEND;TZID=America/New_York:20221114T210000
DTSTAMP:20260423T053951
CREATED:20221108T003631Z
LAST-MODIFIED:20221108T003631Z
UID:186-1668445200-1668459600@tallahasseeelks.org
SUMMARY:CLUB ACTIVITIES 5:00   PM
DESCRIPTION:
URL:https://tallahasseeelks.org/event/club-activities-500-pm/
ATTACH;FMTTYPE=image/jpeg:https://tallahasseeelks.org/wp-content/uploads/2022/11/CLUB-ACTIVITIES-2.jpg
END:VEVENT
BEGIN:VEVENT
DTSTART;TZID=America/New_York:20221112T200000
DTEND;TZID=America/New_York:20221112T230000
DTSTAMP:20260423T053951
CREATED:20221108T002603Z
LAST-MODIFIED:20221108T011841Z
UID:183-1668283200-1668294000@tallahasseeelks.org
SUMMARY:FSU vs. Syracuse 8:00pm
DESCRIPTION:Come watch your favorite college football team in the lounge! Snacks to share are always welcome!
URL:https://tallahasseeelks.org/event/fsu-vs-louisiana-ragin-cajuns-800pm/
ATTACH;FMTTYPE=image/jpeg:https://tallahasseeelks.org/wp-content/uploads/2022/11/fsu-vs-syracuse.jpg
END:VEVENT
BEGIN:VEVENT
DTSTART;TZID=America/New_York:20221111T193000
DTEND;TZID=America/New_York:20221111T213000
DTSTAMP:20260423T053951
CREATED:20221108T004347Z
LAST-MODIFIED:20221108T004347Z
UID:193-1668195000-1668202200@tallahasseeelks.org
SUMMARY:Veteran's Steak Dinner 7:30 pm
DESCRIPTION:
URL:https://tallahasseeelks.org/event/veterans-steak-dinner-730-pm/
ATTACH;FMTTYPE=image/jpeg:https://tallahasseeelks.org/wp-content/uploads/2022/11/veterans-steak-dinner.jpg
END:VEVENT
BEGIN:VEVENT
DTSTART;TZID=America/New_York:20221108T070000
DTEND;TZID=America/New_York:20221108T190000
DTSTAMP:20260423T053951
CREATED:20221108T014233Z
LAST-MODIFIED:20221108T014233Z
UID:219-1667890800-1667934000@tallahasseeelks.org
SUMMARY:Election Voting
DESCRIPTION:Voting begins at 7am and ends at 7pm.
URL:https://tallahasseeelks.org/event/election-voting/
ATTACH;FMTTYPE=image/webp:https://tallahasseeelks.org/wp-content/uploads/2022/11/voting.webp
END:VEVENT
BEGIN:VEVENT
DTSTART;TZID=America/New_York:20221107T080000
DTEND;TZID=America/New_York:20221107T170000
DTSTAMP:20260423T053951
CREATED:20221107T235337Z
LAST-MODIFIED:20221107T235337Z
UID:180-1667808000-1667840400@tallahasseeelks.org
SUMMARY:Veteran's Steak Dinner + Music with Marty 7:30pm
DESCRIPTION:
URL:https://tallahasseeelks.org/event/veterans-steak-dinner-music-with-marty-730pm/
END:VEVENT
BEGIN:VEVENT
DTSTART;TZID=America/New_York:20221105T193000
DTEND;TZID=America/New_York:20221105T223000
DTSTAMP:20260423T053951
CREATED:20221031T234047Z
LAST-MODIFIED:20221107T232846Z
UID:142-1667676600-1667687400@tallahasseeelks.org
SUMMARY:College Football
DESCRIPTION:FSU @ Miami Saturday 11/5/22 \nCome watch your favorite College Football Team play in the Lounge! Snacks to share are always welcome!
URL:https://tallahasseeelks.org/event/college-football/
END:VEVENT
END:VCALENDAR